BEGIN:VCALENDAR
VERSION:2.0
PRODID:-//wp-events-plugin.com//7.2.2.1//EN
TZID:America/New_York
X-WR-TIMEZONE:America/New_York
BEGIN:VEVENT
UID:3397@uucnrv.org
DTSTART;TZID=America/New_York:20190505T174500
DTEND;TZID=America/New_York:20190505T203000
DTSTAMP:20190502T113423Z
URL:https://uucnrv.org/events/earthspirit-sisters-beltane-celebration-2/
SUMMARY:EarthSpirit Sisters’ Beltane Celebration
DESCRIPTION:ALL are invited to celebrate Beltane in our labyrinth. The even
 t begins with the children’s ritual (story time and maypole dance) at 5:
 45 PM. The adult ritual starts at 7 PM. Rain date\, Monday\, May 6. Childc
 are provided.&nbsp\;Please bring cut flowers\, a snack to share\, and a fo
 lding chair\, if needed.&nbsp\;\n\n&nbsp\;
CATEGORIES:Event
LOCATION:UUC\, 1301 Gladewood Drive\, Blacksburg\, VA\, 24060\, United Stat
 es
X-APPLE-STRUCTURED-LOCATION;VALUE=URI;X-ADDRESS=1301 Gladewood Drive\, Blac
 ksburg\, VA\, 24060\, United States;X-APPLE-RADIUS=100;X-TITLE=UUC:geo:0,0
END:VEVENT
BEGIN:VTIMEZONE
TZID:America/New_York
X-LIC-LOCATION:America/New_York
BEGIN:DAYLIGHT
DTSTART:20190310T030000
TZOFFSETFROM:-0500
TZOFFSETTO:-0400
TZNAME:EDT
END:DAYLIGHT
END:VTIMEZONE
END:VCALENDAR