BEGIN:VCALENDAR
VERSION:2.0
PRODID:-//wp-events-plugin.com//7.2.2.1//EN
TZID:America/New_York
X-WR-TIMEZONE:America/New_York
BEGIN:VEVENT
UID:3383@uucnrv.org
DTSTART;TZID=America/New_York:20190325T190000
DTEND;TZID=America/New_York:20190325T203000
DTSTAMP:20190226T144540Z
URL:https://uucnrv.org/events/america-inside-out-with-katie-couric-white-a
 nxiety/
SUMMARY:America Inside Out with Katie Couric: White Anxiety
DESCRIPTION:All are welcome.&nbsp\;The 2016 election put a spotlight on Ame
 rica's white working class - one-third of all Americans - whose economic a
 nd cultural anxiety are fueling the country's growing political divide. To
  understand the real roots of working-class anger and frustration\, Katie 
 Couric journeys to rural and Rust Belt America to meet everyday Americans 
 who feel like their towns\, their jobs\, and their very way of life are va
 nishing.\n\n&nbsp\;
CATEGORIES:Event
LOCATION:UUC\, 1301 Gladewood Drive\, Blacksburg\, VA\, 24060\, United Stat
 es
X-APPLE-STRUCTURED-LOCATION;VALUE=URI;X-ADDRESS=1301 Gladewood Drive\, Blac
 ksburg\, VA\, 24060\, United States;X-APPLE-RADIUS=100;X-TITLE=UUC:geo:0,0
END:VEVENT
BEGIN:VTIMEZONE
TZID:America/New_York
X-LIC-LOCATION:America/New_York
BEGIN:DAYLIGHT
DTSTART:20190310T030000
TZOFFSETFROM:-0500
TZOFFSETTO:-0400
TZNAME:EDT
END:DAYLIGHT
END:VTIMEZONE
END:VCALENDAR